BEGIN:VCALENDAR
VERSION:2.0
PRODID:-//www.okeenehpg.org//NONSGML kigkonsult.se iCalcreator 2.30.10//
CALSCALE:GREGORIAN
METHOD:PUBLISH
UID:501f4152-5815-43d4-a048-aa57db49425c
X-WR-CALDESC:
X-WR-RELCALID:4f38c327712548387ad1e54fc0e64514
X-WR-TIMEZONE:America/Chicago
BEGIN:VTIMEZONE
TZID:America/Chicago
BEGIN:STANDARD
TZNAME:CST
DTSTART:20201101T020000
TZOFFSETFROM:-0500
TZOFFSETTO:-0600
RDATE:20211107T020000
RDATE:20221106T020000
END:STANDARD
BEGIN:DAYLIGHT
TZNAME:CDT
DTSTART:20210314T020000
TZOFFSETFROM:-0600
TZOFFSETTO:-0500
RDATE:20220313T020000
END:DAYLIGHT
END:VTIMEZONE
BEGIN:VEVENT
UID:423a0e65-e72b-4539-b2c9-8e111a296130
DTSTAMP:20260421T185804Z
DESCRIPTION:
DTSTART;TZID=America/Chicago:20210618T000000
DTEND;TZID=America/Chicago:20210620T235900
LOCATION:
SUMMARY:Building Unavailable  - Private Event
END:VEVENT
END:VCALENDAR
