BEGIN:VCALENDAR
VERSION:2.0
PRODID:-//www.okeenehpg.org//NONSGML kigkonsult.se iCalcreator 2.30.10//
CALSCALE:GREGORIAN
METHOD:PUBLISH
UID:58df7f0a-7dbb-46ff-9350-e91bb792213d
X-WR-CALDESC:
X-WR-RELCALID:9235ed36670c26b414436745ecaabe28
X-WR-TIMEZONE:America/Chicago
BEGIN:VTIMEZONE
TZID:America/Chicago
BEGIN:STANDARD
TZNAME:CST
DTSTART:20201101T020000
TZOFFSETFROM:-0500
TZOFFSETTO:-0600
RDATE:20211107T020000
RDATE:20221106T020000
END:STANDARD
BEGIN:DAYLIGHT
TZNAME:CDT
DTSTART:20210314T020000
TZOFFSETFROM:-0600
TZOFFSETTO:-0500
RDATE:20220313T020000
END:DAYLIGHT
END:VTIMEZONE
BEGIN:VEVENT
UID:cf100325-f90f-4968-9310-8b7d80939c69
DTSTAMP:20260421T190608Z
DESCRIPTION:
DTSTART;TZID=America/Chicago:20210628T190000
DTEND;TZID=America/Chicago:20210628T203000
LOCATION:
SUMMARY:Germanfest Planning Meeting
END:VEVENT
END:VCALENDAR
