BEGIN:VCALENDAR
VERSION:2.0
PRODID:-//www.okeenehpg.org//NONSGML kigkonsult.se iCalcreator 2.30.10//
CALSCALE:GREGORIAN
METHOD:PUBLISH
UID:a84257c3-b76e-4298-9b79-e867a120dd8a
X-WR-CALDESC:
X-WR-RELCALID:5aa0ffa170fc370e65147a14605acb5e
X-WR-TIMEZONE:America/Chicago
BEGIN:VTIMEZONE
TZID:America/Chicago
BEGIN:STANDARD
TZNAME:CST
DTSTART:20201101T020000
TZOFFSETFROM:-0500
TZOFFSETTO:-0600
RDATE:20211107T020000
RDATE:20221106T020000
END:STANDARD
BEGIN:DAYLIGHT
TZNAME:CDT
DTSTART:20210314T020000
TZOFFSETFROM:-0600
TZOFFSETTO:-0500
RDATE:20220313T020000
END:DAYLIGHT
END:VTIMEZONE
BEGIN:VEVENT
UID:3d341f7d-c055-45a2-b26d-c720f496f3a3
DTSTAMP:20260421T171429Z
DESCRIPTION:
DTSTART;TZID=America/Chicago:20210712T180000
DTEND;TZID=America/Chicago:20210712T190000
LOCATION:
SUMMARY:Germanfest Planning Meeting
END:VEVENT
END:VCALENDAR
