BEGIN:VCALENDAR
VERSION:2.0
PRODID:-//www.okeenehpg.org//NONSGML kigkonsult.se iCalcreator 2.30.10//
CALSCALE:GREGORIAN
METHOD:PUBLISH
UID:ee850712-c681-4574-9181-e9c02082f15f
X-WR-CALDESC:
X-WR-RELCALID:04ffc5127cb97a6a8425ac2be77739ca
X-WR-TIMEZONE:America/Chicago
BEGIN:VTIMEZONE
TZID:America/Chicago
BEGIN:STANDARD
TZNAME:CST
DTSTART:20201101T020000
TZOFFSETFROM:-0500
TZOFFSETTO:-0600
RDATE:20211107T020000
RDATE:20221106T020000
END:STANDARD
BEGIN:DAYLIGHT
TZNAME:CDT
DTSTART:20210314T020000
TZOFFSETFROM:-0600
TZOFFSETTO:-0500
RDATE:20220313T020000
END:DAYLIGHT
END:VTIMEZONE
BEGIN:VEVENT
UID:f36142dd-f1d8-4993-87d8-817e61159f93
DTSTAMP:20260421T153904Z
DESCRIPTION:
DTSTART;TZID=America/Chicago:20210807T000000
DTEND;TZID=America/Chicago:20210807T235900
LOCATION:
SUMMARY:Building Rented
END:VEVENT
END:VCALENDAR
