BEGIN:VCALENDAR
VERSION:2.0
PRODID:-//www.okeenehpg.org//NONSGML kigkonsult.se iCalcreator 2.30.10//
CALSCALE:GREGORIAN
METHOD:PUBLISH
UID:9784cf23-9fa9-4bdd-ad30-fdf3eaec856b
X-WR-CALDESC:
X-WR-RELCALID:4082173f3e83732110cae42a3bcdfcd1
X-WR-TIMEZONE:America/Chicago
BEGIN:VTIMEZONE
TZID:America/Chicago
BEGIN:STANDARD
TZNAME:CST
DTSTART:20201101T020000
TZOFFSETFROM:-0500
TZOFFSETTO:-0600
RDATE:20211107T020000
RDATE:20221106T020000
END:STANDARD
BEGIN:DAYLIGHT
TZNAME:CDT
DTSTART:20210314T020000
TZOFFSETFROM:-0600
TZOFFSETTO:-0500
RDATE:20220313T020000
END:DAYLIGHT
END:VTIMEZONE
BEGIN:VEVENT
UID:5a50b829-3266-4949-b117-58cc90ae1877
DTSTAMP:20260421T153231Z
DESCRIPTION:
DTSTART;TZID=America/Chicago:20210814T000000
DTEND;TZID=America/Chicago:20210814T235900
LOCATION:
SUMMARY:Building Rented
END:VEVENT
END:VCALENDAR
