BEGIN:VCALENDAR
VERSION:2.0
PRODID:-//www.okeenehpg.org//NONSGML kigkonsult.se iCalcreator 2.30.10//
CALSCALE:GREGORIAN
METHOD:PUBLISH
UID:4dae194a-3746-46b1-9963-0a12962e6a14
X-WR-CALDESC:
X-WR-RELCALID:2cbea975f33a31d8bec12e3ed9cb96f3
X-WR-TIMEZONE:America/Chicago
BEGIN:VTIMEZONE
TZID:America/Chicago
BEGIN:STANDARD
TZNAME:CST
DTSTART:20201101T020000
TZOFFSETFROM:-0500
TZOFFSETTO:-0600
RDATE:20211107T020000
RDATE:20221106T020000
END:STANDARD
BEGIN:DAYLIGHT
TZNAME:CDT
DTSTART:20210314T020000
TZOFFSETFROM:-0600
TZOFFSETTO:-0500
RDATE:20220313T020000
END:DAYLIGHT
END:VTIMEZONE
BEGIN:VEVENT
UID:95dbf61e-f38e-4951-bdce-b6dfe5c3dc4f
DTSTAMP:20260421T153241Z
DESCRIPTION:
DTSTART;TZID=America/Chicago:20210820T000000
DTEND;TZID=America/Chicago:20210821T235900
LOCATION:
SUMMARY:Building Rented
END:VEVENT
END:VCALENDAR
