BEGIN:VCALENDAR
VERSION:2.0
PRODID:-//www.okeenehpg.org//NONSGML kigkonsult.se iCalcreator 2.30.10//
CALSCALE:GREGORIAN
METHOD:PUBLISH
UID:2215c1f3-4d18-47b9-aef5-cde205b81426
X-WR-CALDESC:
X-WR-RELCALID:2fdf46692b4641eabb5e3878f16f5ca3
X-WR-TIMEZONE:America/Chicago
BEGIN:VTIMEZONE
TZID:America/Chicago
BEGIN:STANDARD
TZNAME:CST
DTSTART:20201101T020000
TZOFFSETFROM:-0500
TZOFFSETTO:-0600
RDATE:20211107T020000
RDATE:20221106T020000
END:STANDARD
BEGIN:DAYLIGHT
TZNAME:CDT
DTSTART:20210314T020000
TZOFFSETFROM:-0600
TZOFFSETTO:-0500
RDATE:20220313T020000
END:DAYLIGHT
END:VTIMEZONE
BEGIN:VEVENT
UID:c3ba66d1-94df-4602-abd0-6f137dbb9268
DTSTAMP:20260421T134943Z
DESCRIPTION:
DTSTART;TZID=America/Chicago:20210904T000000
DTEND;TZID=America/Chicago:20210905T235900
LOCATION:
SUMMARY:Building Rented
END:VEVENT
END:VCALENDAR
