BEGIN:VCALENDAR
VERSION:2.0
PRODID:-//www.okeenehpg.org//NONSGML kigkonsult.se iCalcreator 2.30.10//
CALSCALE:GREGORIAN
METHOD:PUBLISH
UID:63903993-7f2a-400f-9741-5c14def71680
X-WR-CALDESC:
X-WR-RELCALID:5b64c9287b136e7140b6126cb4c3b21b
X-WR-TIMEZONE:America/Chicago
BEGIN:VTIMEZONE
TZID:America/Chicago
BEGIN:STANDARD
TZNAME:CST
DTSTART:20201101T020000
TZOFFSETFROM:-0500
TZOFFSETTO:-0600
RDATE:20211107T020000
RDATE:20221106T020000
END:STANDARD
BEGIN:DAYLIGHT
TZNAME:CDT
DTSTART:20210314T020000
TZOFFSETFROM:-0600
TZOFFSETTO:-0500
RDATE:20220313T020000
RDATE:20230312T020000
END:DAYLIGHT
END:VTIMEZONE
BEGIN:VEVENT
UID:0e17da7b-9a5a-4f7b-a378-6ebeffe22dad
DTSTAMP:20260421T135402Z
DESCRIPTION:
DTSTART;TZID=America/Chicago:20210913T180000
DTEND;TZID=America/Chicago:20210913T190000
LOCATION:
SUMMARY:Germanfest Planning Meeting
END:VEVENT
END:VCALENDAR
