BEGIN:VCALENDAR
VERSION:2.0
PRODID:-//www.okeenehpg.org//NONSGML kigkonsult.se iCalcreator 2.30.10//
CALSCALE:GREGORIAN
METHOD:PUBLISH
UID:8fce2b69-97c4-48d7-851f-1ccfc3c3b9a8
X-WR-CALDESC:
X-WR-RELCALID:a0f089b07ba9d3d5a8fdcd8278ecbd8d
X-WR-TIMEZONE:America/Chicago
BEGIN:VTIMEZONE
TZID:America/Chicago
BEGIN:STANDARD
TZNAME:CST
DTSTART:20201101T020000
TZOFFSETFROM:-0500
TZOFFSETTO:-0600
RDATE:20211107T020000
RDATE:20221106T020000
END:STANDARD
BEGIN:DAYLIGHT
TZNAME:CDT
DTSTART:20210314T020000
TZOFFSETFROM:-0600
TZOFFSETTO:-0500
RDATE:20220313T020000
RDATE:20230312T020000
END:DAYLIGHT
END:VTIMEZONE
BEGIN:VEVENT
UID:fe99e8a5-79be-4926-be81-c426c5ec8ad8
DTSTAMP:20260421T135327Z
DESCRIPTION:
DTSTART;TZID=America/Chicago:20210913T000000
DTEND;TZID=America/Chicago:20210913T235900
LOCATION:
SUMMARY:Okeene Germanfest
END:VEVENT
END:VCALENDAR
