BEGIN:VCALENDAR
VERSION:2.0
PRODID:-//www.okeenehpg.org//NONSGML kigkonsult.se iCalcreator 2.30.10//
CALSCALE:GREGORIAN
METHOD:PUBLISH
UID:e6eecec9-a46a-47bf-a63a-1d87f2d7bd3f
X-WR-CALDESC:
X-WR-RELCALID:1d520fbd6ad7b59bd83cc3b8e2d58f13
X-WR-TIMEZONE:America/Chicago
BEGIN:VTIMEZONE
TZID:America/Chicago
BEGIN:STANDARD
TZNAME:CST
DTSTART:20201101T020000
TZOFFSETFROM:-0500
TZOFFSETTO:-0600
RDATE:20211107T020000
RDATE:20221106T020000
END:STANDARD
BEGIN:DAYLIGHT
TZNAME:CDT
DTSTART:20210314T020000
TZOFFSETFROM:-0600
TZOFFSETTO:-0500
RDATE:20220313T020000
RDATE:20230312T020000
END:DAYLIGHT
END:VTIMEZONE
BEGIN:VEVENT
UID:88986b54-0589-4802-b525-bc4027980b38
DTSTAMP:20260421T135316Z
DESCRIPTION:
DTSTART;TZID=America/Chicago:20210919T000000
DTEND;TZID=America/Chicago:20210919T235900
LOCATION:
SUMMARY:Building Rented
END:VEVENT
END:VCALENDAR
