BEGIN:VCALENDAR
VERSION:2.0
PRODID:-//www.okeenehpg.org//NONSGML kigkonsult.se iCalcreator 2.30.10//
CALSCALE:GREGORIAN
METHOD:PUBLISH
UID:a32bf250-bb22-4f14-89b5-479cd5989f2f
X-WR-CALDESC:
X-WR-RELCALID:ff0ac19027339230235fafc036a1af95
X-WR-TIMEZONE:America/Chicago
BEGIN:VTIMEZONE
TZID:America/Chicago
BEGIN:STANDARD
TZNAME:CST
DTSTART:20201101T020000
TZOFFSETFROM:-0500
TZOFFSETTO:-0600
RDATE:20211107T020000
RDATE:20221106T020000
END:STANDARD
BEGIN:DAYLIGHT
TZNAME:CDT
DTSTART:20210314T020000
TZOFFSETFROM:-0600
TZOFFSETTO:-0500
RDATE:20220313T020000
RDATE:20230312T020000
END:DAYLIGHT
END:VTIMEZONE
BEGIN:VEVENT
UID:21b158cb-cdc4-40fb-a84b-a4bf5cde5c83
DTSTAMP:20260421T135326Z
DESCRIPTION:
DTSTART;TZID=America/Chicago:20210925T000000
DTEND;TZID=America/Chicago:20210925T235900
LOCATION:
SUMMARY:2021 Okeene Germanfest
END:VEVENT
END:VCALENDAR
