BEGIN:VCALENDAR
VERSION:2.0
PRODID:-//www.okeenehpg.org//NONSGML kigkonsult.se iCalcreator 2.30.10//
CALSCALE:GREGORIAN
METHOD:PUBLISH
UID:1a26a143-6817-4010-9077-92833230b6cf
X-WR-CALDESC:
X-WR-RELCALID:2b5fdb61459620f96e4bfc72f9a7b1d2
X-WR-TIMEZONE:America/Chicago
BEGIN:VTIMEZONE
TZID:America/Chicago
BEGIN:STANDARD
TZNAME:CST
DTSTART:20201101T020000
TZOFFSETFROM:-0500
TZOFFSETTO:-0600
RDATE:20211107T020000
RDATE:20221106T020000
END:STANDARD
BEGIN:DAYLIGHT
TZNAME:CDT
DTSTART:20210314T020000
TZOFFSETFROM:-0600
TZOFFSETTO:-0500
RDATE:20220313T020000
RDATE:20230312T020000
END:DAYLIGHT
END:VTIMEZONE
BEGIN:VEVENT
UID:aaf5d985-9aa3-4693-b8d8-c7c9fe237d3a
DTSTAMP:20260421T135711Z
DESCRIPTION:
DTSTART;TZID=America/Chicago:20210926T000000
DTEND;TZID=America/Chicago:20210926T235900
LOCATION:
SUMMARY:Building Rented
END:VEVENT
END:VCALENDAR
