BEGIN:VCALENDAR
VERSION:2.0
PRODID:-//www.okeenehpg.org//NONSGML kigkonsult.se iCalcreator 2.30.10//
CALSCALE:GREGORIAN
METHOD:PUBLISH
UID:2c0fb562-d1b3-44d1-8b1f-43a4e7ca34d4
X-WR-CALDESC:
X-WR-RELCALID:5ba87a95bf9e39cf69633e4b6270762f
X-WR-TIMEZONE:America/Chicago
BEGIN:VTIMEZONE
TZID:America/Chicago
BEGIN:STANDARD
TZNAME:CST
DTSTART:20201101T020000
TZOFFSETFROM:-0500
TZOFFSETTO:-0600
RDATE:20211107T020000
RDATE:20221106T020000
END:STANDARD
BEGIN:DAYLIGHT
TZNAME:CDT
DTSTART:20210314T020000
TZOFFSETFROM:-0600
TZOFFSETTO:-0500
RDATE:20220313T020000
RDATE:20230312T020000
END:DAYLIGHT
END:VTIMEZONE
BEGIN:VEVENT
UID:1e667f89-082b-43d3-b265-de258404b66f
DTSTAMP:20260421T135525Z
DESCRIPTION:
DTSTART;TZID=America/Chicago:20210927T190000
DTEND;TZID=America/Chicago:20210927T203000
LOCATION:
SUMMARY:Germanfest Planning Meeting
END:VEVENT
END:VCALENDAR
