BEGIN:VCALENDAR
VERSION:2.0
PRODID:-//www.okeenehpg.org//NONSGML kigkonsult.se iCalcreator 2.30.10//
CALSCALE:GREGORIAN
METHOD:PUBLISH
UID:91d62ca6-09de-4c0a-b47f-d35e0850df97
X-WR-CALDESC:
X-WR-RELCALID:e1ce0fdc32ae9e11ee66a61cb5fc2139
X-WR-TIMEZONE:America/Chicago
BEGIN:VTIMEZONE
TZID:America/Chicago
BEGIN:STANDARD
TZNAME:CST
DTSTART:20201101T020000
TZOFFSETFROM:-0500
TZOFFSETTO:-0600
RDATE:20211107T020000
RDATE:20221106T020000
END:STANDARD
BEGIN:DAYLIGHT
TZNAME:CDT
DTSTART:20210314T020000
TZOFFSETFROM:-0600
TZOFFSETTO:-0500
RDATE:20220313T020000
RDATE:20230312T020000
END:DAYLIGHT
END:VTIMEZONE
BEGIN:VEVENT
UID:ebd706dd-9d53-4b6e-a1b8-6f7aa36c4d1d
DTSTAMP:20260421T121642Z
DESCRIPTION:
DTSTART;TZID=America/Chicago:20211002T000000
DTEND;TZID=America/Chicago:20211002T235900
LOCATION:
SUMMARY:Building Rented
END:VEVENT
END:VCALENDAR
