BEGIN:VCALENDAR
VERSION:2.0
PRODID:-//www.okeenehpg.org//NONSGML kigkonsult.se iCalcreator 2.30.10//
CALSCALE:GREGORIAN
METHOD:PUBLISH
UID:22055d1e-87a2-47ba-91cc-86d1bcc574c2
X-WR-CALDESC:
X-WR-RELCALID:a9afb4d86c76a82342f4558b1a3ce20d
X-WR-TIMEZONE:America/Chicago
BEGIN:VTIMEZONE
TZID:America/Chicago
BEGIN:STANDARD
TZNAME:CST
DTSTART:20201101T020000
TZOFFSETFROM:-0500
TZOFFSETTO:-0600
RDATE:20211107T020000
RDATE:20221106T020000
END:STANDARD
BEGIN:DAYLIGHT
TZNAME:CDT
DTSTART:20210314T020000
TZOFFSETFROM:-0600
TZOFFSETTO:-0500
RDATE:20220313T020000
RDATE:20230312T020000
END:DAYLIGHT
END:VTIMEZONE
BEGIN:VEVENT
UID:19643b94-3bfe-4aab-8073-98c28e2edb6d
DTSTAMP:20260421T120817Z
DESCRIPTION:
DTSTART;TZID=America/Chicago:20211014T000000
DTEND;TZID=America/Chicago:20211014T235900
LOCATION:
SUMMARY:Building Rented
END:VEVENT
END:VCALENDAR
