BEGIN:VCALENDAR
VERSION:2.0
PRODID:-//www.okeenehpg.org//NONSGML kigkonsult.se iCalcreator 2.30.10//
CALSCALE:GREGORIAN
METHOD:PUBLISH
UID:22139066-822a-48f0-bb5f-75af62dedc81
X-WR-CALDESC:
X-WR-RELCALID:8e1bce9e7c2165343d54f4b42dab384e
X-WR-TIMEZONE:America/Chicago
BEGIN:VTIMEZONE
TZID:America/Chicago
BEGIN:STANDARD
TZNAME:CST
DTSTART:20211107T020000
TZOFFSETFROM:-0500
TZOFFSETTO:-0600
RDATE:20221106T020000
END:STANDARD
BEGIN:DAYLIGHT
TZNAME:CDT
DTSTART:20210314T020000
TZOFFSETFROM:-0600
TZOFFSETTO:-0500
RDATE:20220313T020000
RDATE:20230312T020000
END:DAYLIGHT
END:VTIMEZONE
BEGIN:VEVENT
UID:6bdc88d6-2588-4fb0-94f9-66fd08491a47
DTSTAMP:20260421T102458Z
DESCRIPTION:
DTSTART;TZID=America/Chicago:20211118T150000
DTEND;TZID=America/Chicago:20211118T200000
LOCATION:
SUMMARY:Christmas Crawl & Chamber at The Corner
END:VEVENT
END:VCALENDAR
