BEGIN:VCALENDAR
VERSION:2.0
PRODID:-//www.okeenehpg.org//NONSGML kigkonsult.se iCalcreator 2.30.10//
CALSCALE:GREGORIAN
METHOD:PUBLISH
UID:8a065625-1992-4b40-b9c5-a3812b409af1
X-WR-CALDESC:
X-WR-RELCALID:48026dd702f0f06281ab7f56b67ce39c
X-WR-TIMEZONE:America/Chicago
BEGIN:VTIMEZONE
TZID:America/Chicago
BEGIN:STANDARD
TZNAME:CST
DTSTART:20211107T020000
TZOFFSETFROM:-0500
TZOFFSETTO:-0600
RDATE:20221106T020000
END:STANDARD
BEGIN:DAYLIGHT
TZNAME:CDT
DTSTART:20210314T020000
TZOFFSETFROM:-0600
TZOFFSETTO:-0500
RDATE:20220313T020000
RDATE:20230312T020000
END:DAYLIGHT
END:VTIMEZONE
BEGIN:VEVENT
UID:a4ebb77f-777f-4cba-a58c-5f346343cd46
DTSTAMP:20260421T085628Z
DESCRIPTION:
DTSTART;TZID=America/Chicago:20211204T000000
DTEND;TZID=America/Chicago:20211204T235900
LOCATION:
SUMMARY:Building Rented
END:VEVENT
END:VCALENDAR
