BEGIN:VCALENDAR
VERSION:2.0
PRODID:-//www.okeenehpg.org//NONSGML kigkonsult.se iCalcreator 2.30.10//
CALSCALE:GREGORIAN
METHOD:PUBLISH
UID:98c59d60-e044-4677-8154-720efba250fc
X-WR-CALDESC:
X-WR-RELCALID:55a472046a2e4448bea59a99ed165980
X-WR-TIMEZONE:America/Chicago
BEGIN:VTIMEZONE
TZID:America/Chicago
BEGIN:STANDARD
TZNAME:CST
DTSTART:20221106T020000
TZOFFSETFROM:-0500
TZOFFSETTO:-0600
RDATE:20231105T020000
END:STANDARD
BEGIN:DAYLIGHT
TZNAME:CDT
DTSTART:20220313T020000
TZOFFSETFROM:-0600
TZOFFSETTO:-0500
RDATE:20230312T020000
RDATE:20240310T020000
END:DAYLIGHT
END:VTIMEZONE
BEGIN:VEVENT
UID:1909094e-2030-4253-9f46-a2bab9664ef0
DTSTAMP:20260420T110313Z
DESCRIPTION:
DTSTART;TZID=America/Chicago:20230209T000000
DTEND;TZID=America/Chicago:20230209T235900
LOCATION:
SUMMARY:Building Rented
END:VEVENT
END:VCALENDAR
