BEGIN:VCALENDAR
VERSION:2.0
PRODID:-//www.okeenehpg.org//NONSGML kigkonsult.se iCalcreator 2.30.10//
CALSCALE:GREGORIAN
METHOD:PUBLISH
UID:136bdcc2-b760-4d1d-8301-694bab705481
X-WR-CALDESC:
X-WR-RELCALID:441b0e22a8b9f4e3d93c8eb4d4408c81
X-WR-TIMEZONE:America/Chicago
BEGIN:VTIMEZONE
TZID:America/Chicago
BEGIN:STANDARD
TZNAME:CST
DTSTART:20221106T020000
TZOFFSETFROM:-0500
TZOFFSETTO:-0600
RDATE:20231105T020000
END:STANDARD
BEGIN:DAYLIGHT
TZNAME:CDT
DTSTART:20220313T020000
TZOFFSETFROM:-0600
TZOFFSETTO:-0500
RDATE:20230312T020000
RDATE:20240310T020000
END:DAYLIGHT
END:VTIMEZONE
BEGIN:VEVENT
UID:96e8e2a2-f5d8-4f7b-bed3-776ba82c69a7
DTSTAMP:20260420T111017Z
DESCRIPTION:
DTSTART;TZID=America/Chicago:20230213T180000
DTEND;TZID=America/Chicago:20230213T190000
LOCATION:
SUMMARY:Germanfest Planning Meeting
END:VEVENT
END:VCALENDAR
