BEGIN:VCALENDAR
VERSION:2.0
PRODID:-//www.okeenehpg.org//NONSGML kigkonsult.se iCalcreator 2.30.10//
CALSCALE:GREGORIAN
METHOD:PUBLISH
UID:b1ed997a-c11b-4b8a-9c53-7b42cbec63b0
X-WR-CALDESC:
X-WR-RELCALID:56c7abf4e642453c4c384d8b63e31959
X-WR-TIMEZONE:America/Chicago
BEGIN:VTIMEZONE
TZID:America/Chicago
BEGIN:STANDARD
TZNAME:CST
DTSTART:20221106T020000
TZOFFSETFROM:-0500
TZOFFSETTO:-0600
RDATE:20231105T020000
END:STANDARD
BEGIN:DAYLIGHT
TZNAME:CDT
DTSTART:20220313T020000
TZOFFSETFROM:-0600
TZOFFSETTO:-0500
RDATE:20230312T020000
RDATE:20240310T020000
END:DAYLIGHT
END:VTIMEZONE
BEGIN:VEVENT
UID:90a3c325-63a0-4d64-8cb6-48e9a5b5a9e2
DTSTAMP:20260420T105555Z
DESCRIPTION:
DTSTART;TZID=America/Chicago:20230221T170000
DTEND;TZID=America/Chicago:20230221T180000
LOCATION:
SUMMARY:Town Meeting-New Housing Addition
END:VEVENT
END:VCALENDAR
