BEGIN:VCALENDAR
VERSION:2.0
PRODID:-//www.okeenehpg.org//NONSGML kigkonsult.se iCalcreator 2.30.10//
CALSCALE:GREGORIAN
METHOD:PUBLISH
UID:c2bb75f1-bcf4-4d29-b984-9a416e270dbd
X-WR-CALDESC:
X-WR-RELCALID:c752d490e096a4e07bbea128e4722392
X-WR-TIMEZONE:America/Chicago
BEGIN:VTIMEZONE
TZID:America/Chicago
BEGIN:STANDARD
TZNAME:CST
DTSTART:20231105T020000
TZOFFSETFROM:-0500
TZOFFSETTO:-0600
RDATE:20241103T020000
RDATE:20251102T020000
END:STANDARD
BEGIN:DAYLIGHT
TZNAME:CDT
DTSTART:20240310T020000
TZOFFSETFROM:-0600
TZOFFSETTO:-0500
RDATE:20250309T020000
RDATE:20260308T020000
END:DAYLIGHT
END:VTIMEZONE
BEGIN:VEVENT
UID:bca94a29-b897-4b00-a5ea-91bec1a731c3
DTSTAMP:20260425T015950Z
DESCRIPTION:
DTSTART;TZID=America/Chicago:20240914T050000
DTEND;TZID=America/Chicago:20241002T050001
LOCATION:
SUMMARY:okeene germanfest
END:VEVENT
END:VCALENDAR
