BEGIN:VCALENDAR
VERSION:2.0
PRODID:-//www.okeenehpg.org//NONSGML kigkonsult.se iCalcreator 2.30.10//
CALSCALE:GREGORIAN
METHOD:PUBLISH
UID:a6f4f9b8-9eae-4d56-861b-fa8949f8b960
X-WR-CALDESC:
X-WR-RELCALID:2bd1258ab2afb0a525c90960cdf877af
X-WR-TIMEZONE:America/Chicago
BEGIN:VTIMEZONE
TZID:America/Chicago
BEGIN:STANDARD
TZNAME:CST
DTSTART:20301103T020000
TZOFFSETFROM:-0500
TZOFFSETTO:-0600
RDATE:20311102T020000
END:STANDARD
BEGIN:DAYLIGHT
TZNAME:CDT
DTSTART:20310309T020000
TZOFFSETFROM:-0600
TZOFFSETTO:-0500
RDATE:20320314T020000
END:DAYLIGHT
END:VTIMEZONE
BEGIN:VEVENT
UID:a67bc7fe-1b94-47fa-bc0c-1a6f45c2b3b8
DTSTAMP:20260421T155120Z
DESCRIPTION:
DTSTART;TZID=America/Chicago:20310414T183000
DTEND;TZID=America/Chicago:20310414T203000
LOCATION:The Garage at The Corner in Okeene
SUMMARY:OHPG Board Meeting
END:VEVENT
END:VCALENDAR
