BEGIN:VCALENDAR
VERSION:2.0
PRODID:-//www.okeenehpg.org//NONSGML kigkonsult.se iCalcreator 2.30.10//
CALSCALE:GREGORIAN
METHOD:PUBLISH
UID:f7f7f4e6-bb89-42ad-a6da-c0b06eb41c60
X-WR-CALDESC:
X-WR-RELCALID:664fdd9990d9509932ff4ee72b482ac4
X-WR-TIMEZONE:America/Chicago
BEGIN:VTIMEZONE
TZID:America/Chicago
BEGIN:STANDARD
TZNAME:CST
DTSTART:20301103T020000
TZOFFSETFROM:-0500
TZOFFSETTO:-0600
RDATE:20311102T020000
RDATE:20321107T020000
END:STANDARD
BEGIN:DAYLIGHT
TZNAME:CDT
DTSTART:20310309T020000
TZOFFSETFROM:-0600
TZOFFSETTO:-0500
RDATE:20320314T020000
END:DAYLIGHT
END:VTIMEZONE
BEGIN:VEVENT
UID:78eec993-e1c8-4f27-a0b6-b131b6e56596
DTSTAMP:20260421T172953Z
DESCRIPTION:
DTSTART;TZID=America/Chicago:20310512T183000
DTEND;TZID=America/Chicago:20310512T203000
LOCATION:The Garage at The Corner in Okeene
SUMMARY:OHPG Board Meeting
END:VEVENT
END:VCALENDAR
