BEGIN:VCALENDAR
VERSION:2.0
PRODID:-//www.okeenehpg.org//NONSGML kigkonsult.se iCalcreator 2.30.10//
CALSCALE:GREGORIAN
METHOD:PUBLISH
UID:dd1e3b89-fd71-435d-acf2-6b85eedd1181
X-WR-CALDESC:
X-WR-RELCALID:6e186d6a062ae95ba95e3c02e6a27cc4
X-WR-TIMEZONE:America/Chicago
BEGIN:VTIMEZONE
TZID:America/Chicago
BEGIN:STANDARD
TZNAME:CST
DTSTART:20301103T020000
TZOFFSETFROM:-0500
TZOFFSETTO:-0600
RDATE:20311102T020000
RDATE:20321107T020000
END:STANDARD
BEGIN:DAYLIGHT
TZNAME:CDT
DTSTART:20310309T020000
TZOFFSETFROM:-0600
TZOFFSETTO:-0500
RDATE:20320314T020000
END:DAYLIGHT
END:VTIMEZONE
BEGIN:VEVENT
UID:94848cda-7833-4f42-9dd6-0719a0c51f34
DTSTAMP:20260421T222156Z
DESCRIPTION:
DTSTART;TZID=America/Chicago:20310811T183000
DTEND;TZID=America/Chicago:20310811T203000
LOCATION:The Garage at The Corner in Okeene
SUMMARY:OHPG Board Meeting
END:VEVENT
END:VCALENDAR
