BEGIN:VCALENDAR
VERSION:2.0
PRODID:-//www.okeenehpg.org//NONSGML kigkonsult.se iCalcreator 2.30.10//
CALSCALE:GREGORIAN
METHOD:PUBLISH
UID:b3701900-aa9f-4e8c-b8e7-59d779f6adcf
X-WR-CALDESC:
X-WR-RELCALID:fab416b5a40a52dd4c3c61b06ef340af
X-WR-TIMEZONE:America/Chicago
BEGIN:VTIMEZONE
TZID:America/Chicago
BEGIN:STANDARD
TZNAME:CST
DTSTART:20301103T020000
TZOFFSETFROM:-0500
TZOFFSETTO:-0600
RDATE:20311102T020000
RDATE:20321107T020000
END:STANDARD
BEGIN:DAYLIGHT
TZNAME:CDT
DTSTART:20310309T020000
TZOFFSETFROM:-0600
TZOFFSETTO:-0500
RDATE:20320314T020000
RDATE:20330313T020000
END:DAYLIGHT
END:VTIMEZONE
BEGIN:VEVENT
UID:f339a38c-6234-4bc9-94bf-94f6569232c4
DTSTAMP:20260422T015414Z
DESCRIPTION:
DTSTART;TZID=America/Chicago:20311013T183000
DTEND;TZID=America/Chicago:20311013T203000
LOCATION:The Garage at The Corner in Okeene
SUMMARY:OHPG Board Meeting
END:VEVENT
END:VCALENDAR
