BEGIN:VCALENDAR
VERSION:2.0
PRODID:-//www.okeenehpg.org//NONSGML kigkonsult.se iCalcreator 2.30.10//
CALSCALE:GREGORIAN
METHOD:PUBLISH
UID:6c91fb9f-e1aa-4ace-87e0-19eef05e10f7
X-WR-CALDESC:
X-WR-RELCALID:416eb3cd8a17a29256416c23c60a48de
X-WR-TIMEZONE:America/Chicago
BEGIN:VTIMEZONE
TZID:America/Chicago
BEGIN:STANDARD
TZNAME:CST
DTSTART:20231105T020000
TZOFFSETFROM:-0500
TZOFFSETTO:-0600
RDATE:20241103T020000
END:STANDARD
BEGIN:DAYLIGHT
TZNAME:CDT
DTSTART:20230312T020000
TZOFFSETFROM:-0600
TZOFFSETTO:-0500
RDATE:20240310T020000
RDATE:20250309T020000
END:DAYLIGHT
END:VTIMEZONE
BEGIN:VEVENT
UID:3939b3d8-6d1a-4346-8eab-2dcb5822886c
DTSTAMP:20260420T110155Z
DESCRIPTION:
DTSTART;TZID=America/Chicago:20231117T050000
DTEND;TZID=America/Chicago:20231117T050001
LOCATION:
SUMMARY:building rented
END:VEVENT
END:VCALENDAR
