BEGIN:VCALENDAR
VERSION:2.0
PRODID:-//www.okeenehpg.org//NONSGML kigkonsult.se iCalcreator 2.30.10//
CALSCALE:GREGORIAN
METHOD:PUBLISH
UID:58204750-c0cf-4353-82e2-4b42a22140d7
X-WR-CALDESC:
X-WR-RELCALID:6f6c620b11f4852fff36271005343668
X-WR-TIMEZONE:America/Chicago
BEGIN:VTIMEZONE
TZID:America/Chicago
BEGIN:STANDARD
TZNAME:CST
DTSTART:20241103T020000
TZOFFSETFROM:-0500
TZOFFSETTO:-0600
RDATE:20251102T020000
END:STANDARD
BEGIN:DAYLIGHT
TZNAME:CDT
DTSTART:20250309T020000
TZOFFSETFROM:-0600
TZOFFSETTO:-0500
RDATE:20260308T020000
END:DAYLIGHT
END:VTIMEZONE
BEGIN:VEVENT
UID:28886af5-47c3-47cc-a634-9621536b857f
DTSTAMP:20260423T132307Z
DESCRIPTION:
DTSTART;TZID=America/Chicago:20250329T180000
DTEND;TZID=America/Chicago:20250329T223000
LOCATION:The Dusbabek Building\, 101 N Main St- The Corner of Hwy 51 & 58 \
 , Okeene\, OK 73763-0162 US
SUMMARY:Killer Dueling Piano Bar
END:VEVENT
END:VCALENDAR
